View In:
ArcGIS JavaScript
ArcGIS Online map viewer
Google Earth
ArcMap
View Footprint In:
ArcGIS Online map viewer
Service Description: Community/Mosaic2019heatmap
Name: Community/Mosaic2019heatmap
Description: Community/Mosaic2019heatmap
Single Fused Map Cache: false
Extent:
XMin: -27571.081088077277
YMin: 6585206.149341623
XMax: -1072.5131811345636
YMax: 6602526.899378601
Spatial Reference: 102100
(3857)
Initial Extent:
XMin: -27571.081088077277
YMin: 6585206.149341623
XMax: -1072.5131811345636
YMax: 6602526.899378601
Spatial Reference: 102100
(3857)
Full Extent:
XMin: -27571.081088077277
YMin: 6585206.149341623
XMax: -1072.5131811345636
YMax: 6602526.899378601
Spatial Reference: 102100
(3857)
Pixel Size X: 0.298582141647617
Pixel Size Y: 0.29858214164761526
Band Count: 3
Pixel Type: U8
RasterFunction Infos: {"name":"None","description":"","help":""}
Mensuration Capabilities:
Has Histograms: false
Has Colormap: false
Has Multi Dimensions : false
Rendering Rule:
Min Scale: 0
Max Scale: 0
Copyright Text:
Service Data Type: esriImageServiceDataTypeRGB
Min Values: N/A
Max Values: N/A
Mean Values: N/A
Standard Deviation Values: N/A
Object ID Field:
Fields:
None
Default Mosaic Method: Center
Allowed Mosaic Methods:
SortField:
SortValue: null
Mosaic Operator: First
Default Compression Quality: 75
Default Resampling Method: Bilinear
Max Record Count: null
Max Image Height: 4100
Max Image Width: 15000
Max Download Image Count: null
Max Mosaic Image Count: null
Allow Raster Function: true
Allow Compute TiePoints: false
Supports Statistics: false
Supports Advanced Queries: false
Use StandardizedQueries: true
Raster Type Infos:
Name: Raster Dataset
Description: Supports all ArcGIS Raster Datasets
Help:
Has Raster Attribute Table: false
Edit Fields Info: null
Ownership Based AccessControl For Rasters: null
Child Resources:
Info
Key Properties
Legend
MultiDimensionalInfo
rasterFunctionInfos
Supported Operations:
Export Image
Identify
Compute Histograms
Compute Statistics Histograms
Get Samples
Compute Class Statistics